BEGIN:VCALENDAR
VERSION:2.0
PRODID:Agenda
BEGIN:VEVENT
UID:69ea22dc436f4
DTSTART:20260429T100000Z
SEQUENCE:0
TRANSP:OPAQUE
DTEND:20260429T110000Z
URL:https://agenda.urv.cat/ca/agenda/12147/preparem-nos-per-a-l-eclipsi-tot
 al-del-12-d-agost
LOCATION:Plaça de la Concòrdia
SUMMARY:Preparem-nos per a l'eclipsi total del 12 d'agost
CLASS:PUBLIC
DESCRIPTION:Activitat a l&#39\;aire lliure a la plaça de la Concòrdia del
  campus Catalunya. Urbano Lorenzo\, catedràtic de Metodologia de les Ciè
 ncies del Comportament de la URV\, explicarà de forma pràctica com obser
 var un eclipsi de sol de forma correcta i segura i els aspectes més relle
 vants a tenir en compte per gaudir d&#39\;una bona observació el 12 d&#39
 \;agost. Activitat amb telescopi. Tota la informació sobre l&rsquo\;eclip
 si a la web de Comciència.
DTSTAMP:20260423T134708Z
END:VEVENT
END:VCALENDAR