BEGIN:VCALENDAR
VERSION:2.0
PRODID:Agenda
BEGIN:VEVENT
UID:69e6a2b8bbfa4
DTSTART:20260424T140000Z
SEQUENCE:0
TRANSP:OPAQUE
DTEND:20260424T160000Z
URL:https://agenda.urv.cat/ca/agenda/12112/visita-a-la-tarraco-romana
LOCATION:Plaça de la Concòrdia
SUMMARY:Visita a la Tàrraco Romana
CLASS:PUBLIC
DESCRIPTION:Visita a la Tàrraco Romana\, a càrrec de Joaquín Ruiz de Arb
 ulo. Activitat inclosa en el Lletrafest.\n\nPunt de trobada\, a la Plaça 
 de la Concòrdia del campus Catalunya.\n\nInscripcions a osd.fll@urv.cat
DTSTAMP:20260420T220336Z
END:VEVENT
END:VCALENDAR