BEGIN:VCALENDAR
VERSION:2.0
PRODID:Agenda
BEGIN:VEVENT
UID:69e6a2a30d222
DTSTART:20260424T110000Z
SEQUENCE:0
TRANSP:OPAQUE
DTEND:20260424T120000Z
URL:https://agenda.urv.cat/ca/agenda/12111/vermut-i-actuacio-d-eight-balls
LOCATION:Plaça de la Concòrdia
SUMMARY:Vermut i actuació d'Eight Balls
CLASS:PUBLIC
DESCRIPTION:Vermut amb patates i olives i\, tot seguit\, actuació d&#39\;E
 ight Balls. Activitat inclosa en el Lletrafest.
DTSTAMP:20260420T220315Z
END:VEVENT
END:VCALENDAR