BEGIN:VCALENDAR
VERSION:2.0
PRODID:Agenda
BEGIN:VEVENT
UID:69e6a2b7bc28f
DTSTART:20260424T091500Z
SEQUENCE:0
TRANSP:OPAQUE
DTEND:20260424T103000Z
URL:https://agenda.urv.cat/ca/agenda/12110/escriptura-creativa
LOCATION:Sala de Juntes
SUMMARY:Escriptura creativa
CLASS:PUBLIC
DESCRIPTION:Taller d&#39\;escriptura creativa\, a càrrec de Natalia Sáez.
  Activitat organitzada per AURORA i inclosa en el Lletrafest.\n\nInscripci
 ons en aquest enllaç.
DTSTAMP:20260420T220335Z
END:VEVENT
END:VCALENDAR