BEGIN:VCALENDAR
VERSION:2.0
PRODID:Agenda
BEGIN:VEVENT
UID:69e6a2ecd8c97
DTSTART:20260423T090000Z
SEQUENCE:0
TRANSP:OPAQUE
DTEND:20260423T100000Z
URL:https://agenda.urv.cat/ca/agenda/12104/contacontes-sobre-la-vida-de-l-e
 scriptora-xilena-violeta-parra
LOCATION:Sala de Graus
SUMMARY:Contacontes sobre la vida de l’escriptora xilena Violeta Parra
CLASS:PUBLIC
DESCRIPTION:Contacontes sobre la vida de l&#39\;escriptora xilena Violeta P
 arra\, a càrrec de Juan Iturriaga. Activitat inclosa en el Lletrafest.
DTSTAMP:20260420T220428Z
END:VEVENT
END:VCALENDAR