BEGIN:VCALENDAR
VERSION:2.0
PRODID:Agenda
BEGIN:VEVENT
UID:69e6a2a219309
DTSTART:20260423T081500Z
SEQUENCE:0
TRANSP:OPAQUE
DTEND:20260423T091500Z
URL:https://agenda.urv.cat/ca/agenda/12103/el-pirineu-literari-de-palmira-j
 aquetti
LOCATION:Sala de Graus
SUMMARY:El Pirineu literari de Palmira Jaquetti
CLASS:PUBLIC
DESCRIPTION:Presentació i lectura de passatges del llibre &ldquo\;El Pirin
 eu literari de Palmira Jaquetti&rdquo\;\, de Carme Oriol Carazo. Activitat
  inclosa en el Lletrafest.\n\nEl llibre és una invitació a redescobrir e
 l paisatge pirinenc a través de la mirada sensible i poètica d&#39\;una 
 de les grans figures de la cultura catalana del segle xx.
DTSTAMP:20260420T220314Z
END:VEVENT
END:VCALENDAR