BEGIN:VCALENDAR
VERSION:2.0
PRODID:Agenda
BEGIN:VEVENT
UID:69e6a30115c46
DTSTART:20260423T074000Z
SEQUENCE:0
TRANSP:OPAQUE
DTEND:20260423T080000Z
URL:https://agenda.urv.cat/ca/agenda/12102/correllengua
LOCATION:Plaça de la Concòrdia
SUMMARY:Correllengua
CLASS:PUBLIC
DESCRIPTION:Pas del Correllengua per la URV. Acte inclòs en el Lletrafest.
 \n\n9:40&nbsp\;Lectura del manifest del Correllengua.\n\nTot seguit\, actu
 ació castellera dels Pataquers.\n\n10.00&nbsp\;Sortida del Correllengua.
DTSTAMP:20260420T220449Z
END:VEVENT
END:VCALENDAR