BEGIN:VCALENDAR
VERSION:2.0
PRODID:Agenda
BEGIN:VEVENT
UID:69e6a2a28dba9
DTSTART:20260422T140000Z
SEQUENCE:0
TRANSP:OPAQUE
DTEND:20260422T160000Z
URL:https://agenda.urv.cat/ca/agenda/12100/sortida-prehistorica-a-la-canonj
 a
LOCATION:Espai Mummuthus\, la Canonja
SUMMARY:Sortida prehistòrica a la Canonja
CLASS:PUBLIC
DESCRIPTION:Sortida prehistòrica a la Canonja\, a càrrec de Palmira Salad
 ié. Lloc de trobada: Espai Mammuthus\, Camí Vell de Reus\, 37\, la Canon
 ja. Activitat inclosa en el Lletrafest.\n\nInscripcions a osd.fll@urv.cat
DTSTAMP:20260420T220314Z
END:VEVENT
END:VCALENDAR