BEGIN:VCALENDAR
VERSION:2.0
PRODID:Agenda
BEGIN:VEVENT
UID:69e6a2b76b3fd
DTSTART:20260422T080000Z
SEQUENCE:0
TRANSP:OPAQUE
DTEND:20260422T090000Z
URL:https://agenda.urv.cat/ca/agenda/12099/a-lletres-fem-coses
LOCATION:Sala de Juntes
SUMMARY:A Lletres fem coses
CLASS:PUBLIC
DESCRIPTION:A &ldquo\;Lletres fem coses&rdquo\; inclou un tast del vi dels 
 ibers a càrrec de Samuel Sardà. Activitat inclosa en el Lletrafest.
DTSTAMP:20260420T220335Z
END:VEVENT
END:VCALENDAR