BEGIN:VCALENDAR
VERSION:2.0
PRODID:Agenda
BEGIN:VEVENT
UID:69e6a30086e0d
DTSTART:20260422T103000Z
SEQUENCE:0
TRANSP:OPAQUE
DTEND:20260422T113000Z
URL:https://agenda.urv.cat/ca/agenda/12098/plataforma-de-versos
LOCATION:Pati del CRAI
SUMMARY:Plataforma de versos
CLASS:PUBLIC
DESCRIPTION:La Plataforma de Versos és un espai viu i obert on la poesia p
 ren la paraula. Un punt de trobada per compartir versos\, emocions i mirad
 es\, i per fer créixer una comunitat poètica dins i fora de la URV. Tant
  si escrius com si recites\, tant si vols donar veu als teus propis poemes
  com si vols fer ressonar paraules d&#39\;altres autors i autores\, aquest
  és el teu lloc. L&#39\;escenari s&#39\;obre a tota la comunitat universi
 tària i també a poetes de Tarragona que vulguin sumar-se a aquesta exper
 iència col&middot\;lectiva. Activitat inclosa en el Lletrafest\, coordina
 da per María Isabel Calle.\n\nInscripcions en aquest enllaç.
DTSTAMP:20260420T220448Z
END:VEVENT
END:VCALENDAR