BEGIN:VCALENDAR
VERSION:2.0
PRODID:Agenda
BEGIN:VEVENT
UID:69e6a2eaeadf4
DTSTART:20260422T070000Z
SEQUENCE:0
TRANSP:OPAQUE
DTEND:20260422T100000Z
URL:https://agenda.urv.cat/ca/agenda/12097/preparem-nos-per-al-sant-jordi
LOCATION:Factoria del CRAI
SUMMARY:Preparem-nos per al Sant Jordi
CLASS:PUBLIC
DESCRIPTION:Taller &ldquo\;Preparem-nos per al Sant Jordi&rdquo\;\, a càrr
 ec del Servei Lingüístic i de Publicacions.&nbsp\;Activitat inclosa en e
 l Lletrafest.
DTSTAMP:20260420T220426Z
END:VEVENT
END:VCALENDAR