BEGIN:VCALENDAR
VERSION:2.0
PRODID:Agenda
BEGIN:VEVENT
UID:69e6a2b83aadd
DTSTART:20260421T140000Z
SEQUENCE:0
TRANSP:OPAQUE
DTEND:20260421T183000Z
URL:https://agenda.urv.cat/ca/agenda/12088/new-horizons-in-catalysis-and-ch
 emical-synthesis-the-flow-of-innovation
LOCATION:Paranimf del Rectorat de la URV
SUMMARY:New Horizons in Catalysis and Chemical Synthesis: The Flow of Innov
 ation
CLASS:PUBLIC
DESCRIPTION:La URV acull\, els dies 21 i 22 d&rsquo\;abril\,&nbsp\;el simpo
 si &laquo\;New Horizons in Catalysis and Chemical Synthesis: The Flow of I
 nnovation&raquo\;\, un esdeveniment científic organitzat amb motiu del 75
 è aniversari del professor Miquel A. Pericàs\, les contribucions del qua
 l han estat decisives en l&#39\;avanç de la catàlisi\, la química en fl
 ux continu i el desenvolupament de noves metodologies sintètiques.\n\nEl 
 programa i tota la informació en aquest enllaç.
DTSTAMP:20260420T220336Z
END:VEVENT
END:VCALENDAR