BEGIN:VCALENDAR
VERSION:2.0
PRODID:Agenda
BEGIN:VEVENT
UID:69eb92c98fecd
DTSTART:20260505T130000Z
SEQUENCE:0
TRANSP:OPAQUE
DTEND:20260505T150000Z
URL:https://agenda.urv.cat/ca/agenda-diversitats/12156/curtmetratge-apunts-
 en-blanc
LOCATION:Sala de Juntes
SUMMARY:Curtmetratge: \"Apunts en blanc\"
CLASS:PUBLIC
DESCRIPTION:En el marc del mes de maig\, mes de les diversitats\, la unitat
  de&nbsp\;Diversitats&nbsp\;us convida a la projecció del curtmetratge i 
 posterior col&middot\;loqui presentat per ACAPPS-Associació Catalana de f
 amílies i persones amb sordesa. Aquesta sessió&nbsp\;tindrà lloc de 15:
 00 a 17:00 hores de&nbsp\;la tarda&nbsp\;en la Sala de Juntes del Campus C
 atalunya.\n\nUs&nbsp\;hi esperem!
DTSTAMP:20260424T155657Z
END:VEVENT
END:VCALENDAR