BEGIN:VCALENDAR
VERSION:2.0
PRODID:Agenda
BEGIN:VEVENT
UID:69eb92c91e394
DTSTART:20260505T090000Z
SEQUENCE:0
TRANSP:OPAQUE
DTEND:20260505T110000Z
URL:https://agenda.urv.cat/ca/agenda-diversitats/12153/viu-el-respecte-a-l-
 aula-experiencia-immersiva-a-la-fcms
LOCATION:Pati interior de la FCMS
SUMMARY:Viu el respecte a l'aula - Experiència immersiva a la FCMS
CLASS:PUBLIC
DESCRIPTION:En el marc del mes de maig\, mes de les diversitats\, la unitat
  de&nbsp\;Diversitats&nbsp\;us convida a l&rsquo\;espai obert&nbsp\;que ti
 ndrà lloc d&rsquo\;11:00 a 13:00 hores en el pati interior de la Facultat
  de Medicina&nbsp\;i Ciències de la Salut.\n\nMitjançant una experiènci
 a immersiva amb ulleres 3D es viurà&nbsp\;el respecte dins de l&rsquo\;au
 la des de diferents perspectives.\n\nNo t&rsquo\;ho perdis: &ldquo\;Si no 
 ho&nbsp\;vius\, no ho sents!&quot\;
DTSTAMP:20260424T155657Z
END:VEVENT
END:VCALENDAR